BEGIN:VCALENDAR
VERSION:2.0
PRODID:spatie/icalendar-generator
DESCRIPTION:Events from 2 The World 4 His Glory
X-WR-CALDESC:Events from 2 The World 4 His Glory
REFRESH-INTERVAL;VALUE=DURATION:PT1440M
X-PUBLISHED-TTL:PT1440M
BEGIN:VTIMEZONE
TZID:America/New_York
BEGIN:STANDARD
DTSTART:20251102T020000Z
TZOFFSETFROM:-0400
TZOFFSETTO:-0500
END:STANDARD
BEGIN:DAYLIGHT
DTSTART:20260308T020000Z
TZOFFSETFROM:-0500
TZOFFSETTO:-0400
END:DAYLIGHT
END:VTIMEZONE
BEGIN:VTIMEZONE
TZID:UTC
BEGIN:STANDARD
DTSTART:20250725T150244Z
TZOFFSETFROM:+0000
TZOFFSETTO:+0000
END:STANDARD
END:VTIMEZONE
BEGIN:VEVENT
UID:13-13
DTSTAMP:20260421T150244Z
SUMMARY:Baptist Association Service
LOCATION:Calvarie Baptisten Gemeente
ORGANIZER;CN=admin:MAILTO:darrell@2tw4hg.org
DTSTART;TZID=America/New_York:20260329T064500
DTEND;TZID=America/New_York:20260329T074500
X-ALT-DESC;FMTTYPE=TEXT/HTML:
CATEGORIES:General
URL;VALUE=URI:https://www.2tw4hg.org/mc-events/baptist-association-service/
METHOD:PUBLISH
END:VEVENT
END:VCALENDAR