BEGIN:VCALENDAR
VERSION:2.0
PRODID:spatie/icalendar-generator
DESCRIPTION:Events from 2 The World 4 His Glory
X-WR-CALDESC:Events from 2 The World 4 His Glory
REFRESH-INTERVAL;VALUE=DURATION:PT1440M
X-PUBLISHED-TTL:PT1440M
BEGIN:VTIMEZONE
TZID:America/New_York
BEGIN:STANDARD
DTSTART:20251102T020000Z
TZOFFSETFROM:-0400
TZOFFSETTO:-0500
END:STANDARD
BEGIN:DAYLIGHT
DTSTART:20260308T020000Z
TZOFFSETFROM:-0500
TZOFFSETTO:-0400
END:DAYLIGHT
BEGIN:STANDARD
DTSTART:20261101T020000Z
TZOFFSETFROM:-0400
TZOFFSETTO:-0500
END:STANDARD
END:VTIMEZONE
BEGIN:VTIMEZONE
TZID:UTC
BEGIN:STANDARD
DTSTART:20250725T182016Z
TZOFFSETFROM:+0000
TZOFFSETTO:+0000
END:STANDARD
END:VTIMEZONE
BEGIN:VEVENT
UID:38-19
DTSTAMP:20260421T182016Z
SUMMARY:Christoval Texas Men's Bible Study
LOCATION:Christoval Baptist Church\, Christoval TX
ORGANIZER;CN=admin:MAILTO:darrell@2tw4hg.org
RRULE:FREQ=WEEKLY;UNTIL=20261229T000000Z
DTSTART;TZID=America/New_York:20260721T083000
DTEND;TZID=America/New_York:20260721T093000
X-ALT-DESC;FMTTYPE=TEXT/HTML:
CATEGORIES:General
URL;VALUE=URI:https://www.2tw4hg.org/mc-events/christoval-texas-mens-bible-
 study/?mc_id=38
METHOD:PUBLISH
END:VEVENT
END:VCALENDAR