BEGIN:VCALENDAR
VERSION:2.0
PRODID:spatie/icalendar-generator
DESCRIPTION:Events from 2 The World 4 His Glory
X-WR-CALDESC:Events from 2 The World 4 His Glory
REFRESH-INTERVAL;VALUE=DURATION:PT1440M
X-PUBLISHED-TTL:PT1440M
BEGIN:VTIMEZONE
TZID:America/New_York
BEGIN:STANDARD
DTSTART:20251102T020000Z
TZOFFSETFROM:-0400
TZOFFSETTO:-0500
END:STANDARD
BEGIN:DAYLIGHT
DTSTART:20260308T020000Z
TZOFFSETFROM:-0500
TZOFFSETTO:-0400
END:DAYLIGHT
END:VTIMEZONE
BEGIN:VTIMEZONE
TZID:UTC
BEGIN:STANDARD
DTSTART:20250725T143017Z
TZOFFSETFROM:+0000
TZOFFSETTO:+0000
END:STANDARD
END:VTIMEZONE
BEGIN:VEVENT
UID:99-21
DTSTAMP:20260421T143017Z
SUMMARY:Christoval Baptist Women's Bible Study
LOCATION:Christoval Baptist Church\, Christoval TX
ORGANIZER;CN=admin:MAILTO:darrell@2tw4hg.org
RRULE:FREQ=WEEKLY;UNTIL=20261230T000000Z
DTSTART;TZID=America/New_York:20260318T110000
DTEND;TZID=America/New_York:20260318T120000
X-ALT-DESC;FMTTYPE=TEXT/HTML:
CATEGORIES:General
URL;VALUE=URI:https://www.2tw4hg.org/mc-events/christoval-baptist-womens-bi
 ble-study/?mc_id=99
METHOD:PUBLISH
END:VEVENT
END:VCALENDAR